BEGIN:VCALENDAR
VERSION:2.0
PRODID:-//Vapers Finland ry - ECPv6.5.0//NONSGML v1.0//EN
CALSCALE:GREGORIAN
METHOD:PUBLISH
X-ORIGINAL-URL:https://vapers.fi
X-WR-CALDESC:Tapahtumat Vapers Finland ry
REFRESH-INTERVAL;VALUE=DURATION:PT1H
X-Robots-Tag:noindex
X-PUBLISHED-TTL:PT1H
BEGIN:VTIMEZONE
TZID:Europe/Helsinki
BEGIN:DAYLIGHT
TZOFFSETFROM:+0200
TZOFFSETTO:+0300
TZNAME:EEST
DTSTART:20150329T010000
END:DAYLIGHT
BEGIN:STANDARD
TZOFFSETFROM:+0300
TZOFFSETTO:+0200
TZNAME:EET
DTSTART:20151025T010000
END:STANDARD
END:VTIMEZONE
BEGIN:VEVENT
DTSTART;TZID=Europe/Helsinki:20150523T150000
DTEND;TZID=Europe/Helsinki:20150523T220000
DTSTAMP:20260423T211106
CREATED:20150422T104239Z
LAST-MODIFIED:20150510T210507Z
UID:190948-1432393200-1432418400@vapers.fi
SUMMARY:Vape Helsinki miitti
DESCRIPTION:Vape Helsinki miitti on koko aika kasvava tapahtuma\, jossa höyryttelijät pääsevät Helsingin sydämessä tapaaman toisiaan sekä tutustumaan muihin höyryttelijöihin.  \nPaikalla on myös kauppiaita\, jotka tarjoavat miittihinnoin sekä nesteitä että laitteita paikalla olijoille.
URL:https://vapers.fi/event/vape-helsinki-miitti/
LOCATION:Painobaari\, postikuja 2\, Helsinki\, Helsinki\, 00100\, Suomi
ATTACH;FMTTYPE=:
END:VEVENT
END:VCALENDAR