BEGIN:VCALENDAR
VERSION:2.0
PRODID:-//Vapers Finland ry - ECPv6.5.0//NONSGML v1.0//EN
CALSCALE:GREGORIAN
METHOD:PUBLISH
X-WR-CALNAME:Vapers Finland ry
X-ORIGINAL-URL:https://vapers.fi
X-WR-CALDESC:Tapahtumat Vapers Finland ry
REFRESH-INTERVAL;VALUE=DURATION:PT1H
X-Robots-Tag:noindex
X-PUBLISHED-TTL:PT1H
BEGIN:VTIMEZONE
TZID:Europe/Helsinki
BEGIN:DAYLIGHT
TZOFFSETFROM:+0200
TZOFFSETTO:+0300
TZNAME:EEST
DTSTART:20150329T010000
END:DAYLIGHT
BEGIN:STANDARD
TZOFFSETFROM:+0300
TZOFFSETTO:+0200
TZNAME:EET
DTSTART:20151025T010000
END:STANDARD
END:VTIMEZONE
BEGIN:VEVENT
DTSTART;TZID=Europe/Helsinki:20150807T160000
DTEND;TZID=Europe/Helsinki:20150807T200000
DTSTAMP:20260423T170902
CREATED:20150728T200600Z
LAST-MODIFIED:20150728T201612Z
UID:191996-1438963200-1438977600@vapers.fi
SUMMARY:Turku miitti
DESCRIPTION:Kesä on tapahtumien aikaa. Tampere miitistä on juuri selvitty ja Vapefestit ovat jo nurkan takana\, mutta odottavan aika on pitkä.. Odotuksen tuskaa tulee nyt lieventämään Turku miitti! Turussa ei ole hetkeen ollut mitään isompaa höyrytapahtumaa\, joten asia korjaantuu perjantaina 7.8.2015 alkaen klo 16.00. Tapahtuma on avoin kaikille\, niin höyryttelijöille kun höyryttelystä kiinnostuneille. Ohjelmassa on ainakin arvonta sekä nesteiden maistelua. Tervetuloa paikalle! \nTurku miitin järjestää: Niscavape & Rokbar ( http://www.rokbar.fi/ )
URL:https://vapers.fi/event/turku-miitti/
LOCATION:Rokbar\, Eerikinkatu 6 B\, Turku\, 20100\, Suomi
END:VEVENT
END:VCALENDAR