BEGIN:VCALENDAR
VERSION:2.0
PRODID:-//Vapers Finland ry - ECPv6.5.0//NONSGML v1.0//EN
CALSCALE:GREGORIAN
METHOD:PUBLISH
X-ORIGINAL-URL:https://vapers.fi
X-WR-CALDESC:Tapahtumat Vapers Finland ry
REFRESH-INTERVAL;VALUE=DURATION:PT1H
X-Robots-Tag:noindex
X-PUBLISHED-TTL:PT1H
BEGIN:VTIMEZONE
TZID:Europe/Helsinki
BEGIN:DAYLIGHT
TZOFFSETFROM:+0200
TZOFFSETTO:+0300
TZNAME:EEST
DTSTART:20150329T010000
END:DAYLIGHT
BEGIN:STANDARD
TZOFFSETFROM:+0300
TZOFFSETTO:+0200
TZNAME:EET
DTSTART:20151025T010000
END:STANDARD
END:VTIMEZONE
BEGIN:VEVENT
DTSTART;TZID=Europe/Helsinki:20150808T100000
DTEND;TZID=Europe/Helsinki:20150809T220000
DTSTAMP:20260423T170932
CREATED:20150319T161308Z
LAST-MODIFIED:20150319T161308Z
UID:190853-1439028000-1439157600@vapers.fi
SUMMARY:UK Vapefest 2015
DESCRIPTION:Iso-Britannian suurin ja mahtavin höyrymiitti\, UK Vapefest järjestetään jo kuudetta kertaa. Tapahtuma on ulkoilmafestivaali\, josta löytyy kymmeniä eurooppalaisia kauppiaita\, tuhansia höyryttelijöitä ja rentoa meininkiä. \nTapahtumapaikalta voi löytää myös kansainvälisiä tunnettuja höyryhahmoja.
URL:https://vapers.fi/event/uk-vapefest-2015/
ATTACH;FMTTYPE=:
END:VEVENT
END:VCALENDAR