BEGIN:VCALENDAR
VERSION:2.0
PRODID:-//Vapers Finland ry - ECPv6.5.0//NONSGML v1.0//EN
CALSCALE:GREGORIAN
METHOD:PUBLISH
X-ORIGINAL-URL:https://vapers.fi
X-WR-CALDESC:Tapahtumat Vapers Finland ry
REFRESH-INTERVAL;VALUE=DURATION:PT1H
X-Robots-Tag:noindex
X-PUBLISHED-TTL:PT1H
BEGIN:VTIMEZONE
TZID:Europe/Helsinki
BEGIN:DAYLIGHT
TZOFFSETFROM:+0200
TZOFFSETTO:+0300
TZNAME:EEST
DTSTART:20150329T010000
END:DAYLIGHT
BEGIN:STANDARD
TZOFFSETFROM:+0300
TZOFFSETTO:+0200
TZNAME:EET
DTSTART:20151025T010000
END:STANDARD
END:VTIMEZONE
BEGIN:VEVENT
DTSTART;TZID=Europe/Helsinki:20150822T120000
DTEND;TZID=Europe/Helsinki:20150822T210000
DTSTAMP:20260423T171010
CREATED:20150601T173319Z
LAST-MODIFIED:20150802T203754Z
UID:191608-1440244800-1440277200@vapers.fi
SUMMARY:Vapefest Finland 2015
DESCRIPTION:Vapers Finland ry ylpeänä esittää: Kesän kuumin tapahtuma\, josta et voi jäädä paitsi! \nKauan odotettu Vapefest Finland on jälleen täällä. Paikkana toimii LeBonk\, joka on Helsingin ytimessä. \n2 kerrosta sekä komea kattoterassi. Liikuntarajoitteisia varten invahissi. \nHuom! 3e narikkamaksu veloitetaan kaikilta
URL:https://vapers.fi/event/vapefest-finland-2015/
LOCATION:LeBonk\, Yrjönkatu 24\, Helsinki\, 00100
END:VEVENT
END:VCALENDAR