BEGIN:VCALENDAR
VERSION:2.0
PRODID:-//Vapers Finland ry - ECPv6.5.0//NONSGML v1.0//EN
CALSCALE:GREGORIAN
METHOD:PUBLISH
X-WR-CALNAME:Vapers Finland ry
X-ORIGINAL-URL:https://vapers.fi
X-WR-CALDESC:Tapahtumat Vapers Finland ry
REFRESH-INTERVAL;VALUE=DURATION:PT1H
X-Robots-Tag:noindex
X-PUBLISHED-TTL:PT1H
BEGIN:VTIMEZONE
TZID:Europe/Helsinki
BEGIN:DAYLIGHT
TZOFFSETFROM:+0200
TZOFFSETTO:+0300
TZNAME:EEST
DTSTART:20160327T010000
END:DAYLIGHT
BEGIN:STANDARD
TZOFFSETFROM:+0300
TZOFFSETTO:+0200
TZNAME:EET
DTSTART:20161030T010000
END:STANDARD
END:VTIMEZONE
BEGIN:VEVENT
DTSTART;TZID=Europe/Helsinki:20160604T150000
DTEND;TZID=Europe/Helsinki:20160604T210000
DTSTAMP:20260423T005235
CREATED:20160106T112217Z
LAST-MODIFIED:20160410T123040Z
UID:192330-1465052400-1465074000@vapers.fi
SUMMARY:Vapers Meet And Greet: Kesäkuu 4.6 Turku @ Baari
DESCRIPTION:Vapers Meet and Greet karavaani pysähtyy Kesäkuussa Turussa. Tarkempi ohjelmisto julkaistaan lähempänä tapahtumaa.
URL:https://vapers.fi/event/vapers-meet-and-greet-toukokuu-turku/
LOCATION:Night Club Baari\, Aurakatu 14\, Turku\, Suomi
END:VEVENT
END:VCALENDAR