BEGIN:VCALENDAR
VERSION:2.0
PRODID:-//Vapers Finland ry - ECPv6.5.0//NONSGML v1.0//EN
CALSCALE:GREGORIAN
METHOD:PUBLISH
X-ORIGINAL-URL:https://vapers.fi
X-WR-CALDESC:Tapahtumat Vapers Finland ry
REFRESH-INTERVAL;VALUE=DURATION:PT1H
X-Robots-Tag:noindex
X-PUBLISHED-TTL:PT1H
BEGIN:VTIMEZONE
TZID:Europe/Helsinki
BEGIN:DAYLIGHT
TZOFFSETFROM:+0200
TZOFFSETTO:+0300
TZNAME:EEST
DTSTART:20160327T010000
END:DAYLIGHT
BEGIN:STANDARD
TZOFFSETFROM:+0300
TZOFFSETTO:+0200
TZNAME:EET
DTSTART:20161030T010000
END:STANDARD
END:VTIMEZONE
BEGIN:VEVENT
DTSTART;TZID=Europe/Helsinki:20160723T140000
DTEND;TZID=Europe/Helsinki:20160723T210000
DTSTAMP:20260422T230929
CREATED:20160509T202403Z
LAST-MODIFIED:20160513T201809Z
UID:192796-1469282400-1469307600@vapers.fi
SUMMARY:VapeCon Kuopio 23.7.2016
DESCRIPTION:Kuopiossa höyrytään entistä enemmän! Sakea kokoontuminen kestää koko helvetin päivän\, ja jokainen tietää\, mitä siitä seuraa\, kun baarissa luuhataan.  \nTervetulleita ovat samanarvoisina niin aloittelijat\, harrastajat kuin höyrykoneetkin.  \nHenry’s Pub eli Henkka täyttyy usvaan 23.7. \n– Kauppiaita\n– Kilpailuja\n– Maistiaisia\n– Huikeat palkinnot \nHaluatko SINÄ osallistua? Haluathan sinä. Ole paikalla! Tai ole ihan paska.  \nTapahtuman järjestää Vapottajat Kuopio Ry.  \n18 vuoden ikä on vaadittu osallistumiseen.
URL:https://vapers.fi/event/vapecon-kuopio-23-7-2016/
LOCATION:Henry´s Pub Kuopio\, Kauppakatu 18\, Kuopio\, 70100\, Suomi
END:VEVENT
END:VCALENDAR