BEGIN:VCALENDAR
VERSION:2.0
PRODID:-//Vapers Finland ry - ECPv6.5.0//NONSGML v1.0//EN
CALSCALE:GREGORIAN
METHOD:PUBLISH
X-WR-CALNAME:Vapers Finland ry
X-ORIGINAL-URL:https://vapers.fi
X-WR-CALDESC:Tapahtumat Vapers Finland ry
REFRESH-INTERVAL;VALUE=DURATION:PT1H
X-Robots-Tag:noindex
X-PUBLISHED-TTL:PT1H
BEGIN:VTIMEZONE
TZID:Europe/Helsinki
BEGIN:DAYLIGHT
TZOFFSETFROM:+0200
TZOFFSETTO:+0300
TZNAME:EEST
DTSTART:20150329T010000
END:DAYLIGHT
BEGIN:STANDARD
TZOFFSETFROM:+0300
TZOFFSETTO:+0200
TZNAME:EET
DTSTART:20151025T010000
END:STANDARD
END:VTIMEZONE
BEGIN:VEVENT
DTSTART;TZID=Europe/Helsinki:20150725T140000
DTEND;TZID=Europe/Helsinki:20150725T180000
DTSTAMP:20260423T171057
CREATED:20150609T135004Z
LAST-MODIFIED:20150609T184405Z
UID:191740-1437832800-1437847200@vapers.fi
SUMMARY:Tampereen höyrymiitti
DESCRIPTION:On aika korjata huutava vääryys ja kutsua sinut arvon höyryttelijä osallistumaan Tampereen höyrymiittiin 25.7.2015 kello 14:00 alkaen@ Bar VIKKULA \nMissä: Bar Vikkulassa\, keskellä Tampereen keskustaa keskustorin kulmalla\, osoitteessa Aleksis Kiven Katu 24\, Tampere \nMilloin: Lauantaina 25.7.2015 kello 14:00 – 18:00 \nKenelle: Sinulle arvon höyryttelijä. Tapahtuma on tarkoitettu vain ja ainoastaan höyryttelijöille sukupuoleen katsomatta ja bar Vikkula onkin suljettu suurelta yleisöltä kello 14:00 – 18:00 välisen ajan. Kello 18:00 ovet aukeavat tavalliselle kansalle ja tapahtuman virallinen osuus päättyy. \nMitä maksaa ja miten pääsen sisään: Tapahtuma on täysin ILMAINEN\, sisäänpääsy höyrytintä näyttämällä portsarille. Huom! sisään vain ja ainoastaan höyryttimen kanssa\, tilaisuus on tarkoitettu vain höyryttelijöille. \nSaako sisällä höyrytä: Tottakai\, höyryäminen on sallittua ja jopa suotavaa koko tapahtuman ajan! \nMitä odotettavissa: Ainakin seurustelua ja hauskanpitoa\, höyrytuttujen ja tuntemattomien tapaamista. Virallinen ohjelma julkistetaan kesäkuun loppupuolella\, mutta luvassa ainakin skaboja ja neste maistiaisia. Myös Vapers Finlandin edustaj(i)a paikalla! \nIkäraja: K-18 on ehdoton\, tapahtumassa mahdollista ostaa aikuisten mehuja \nJärjestäjä: Tapahtuman järjestää Vapottajat Tampere \nTervetuloa höyryämään Tampereen ydinkeskustaan ja tutustumaan lajin harrastajiin!
URL:https://vapers.fi/event/tampereen-hoyrymiitti/
LOCATION:Bar Vikkula\, Aleksis Kiven katu 24\, Tampere\, 33200\, Suomi
END:VEVENT
END:VCALENDAR