BEGIN:VCALENDAR
VERSION:2.0
PRODID:-//Vapers Finland ry - ECPv6.5.0//NONSGML v1.0//EN
CALSCALE:GREGORIAN
METHOD:PUBLISH
X-ORIGINAL-URL:https://vapers.fi
X-WR-CALDESC:Tapahtumat Vapers Finland ry
REFRESH-INTERVAL;VALUE=DURATION:PT1H
X-Robots-Tag:noindex
X-PUBLISHED-TTL:PT1H
BEGIN:VTIMEZONE
TZID:Europe/Helsinki
BEGIN:DAYLIGHT
TZOFFSETFROM:+0200
TZOFFSETTO:+0300
TZNAME:EEST
DTSTART:20150329T010000
END:DAYLIGHT
BEGIN:STANDARD
TZOFFSETFROM:+0300
TZOFFSETTO:+0200
TZNAME:EET
DTSTART:20151025T010000
END:STANDARD
END:VTIMEZONE
BEGIN:VEVENT
DTSTART;TZID=Europe/Helsinki:20151024T150000
DTEND;TZID=Europe/Helsinki:20151024T190000
DTSTAMP:20260423T125808
CREATED:20150924T172138Z
LAST-MODIFIED:20150924T182146Z
UID:192228-1445698800-1445713200@vapers.fi
SUMMARY:Vapottajat Meet & Greet: Päijät-Hämeen miitti (Lahti)
DESCRIPTION:Vapottajat Meet and Greet kiertue pamahtaa eetteriin kahden paikkakunnan voimin.\nPäijät-Hämeen vapottajien miitti minne myös ”ulkopaikkakuntalaiset” enemmän kuin tervetulleita! Tilat tarjoaa Lahden legendaarinen Ravintola Torvi aivan rautatieaseman kupeessa\, joten junalla erittäin helppo saapua paikalle. \nMiitti alkaa kello 15:00 ja päättyy 19:00\, josta suunnataan halukkaiden kanssa viralliseen jatkopaikkaan Ravintola Cheriin. \nLuvassa mm. hauskanpitoa\, uusien ja vanhojen tuttujen moikkailua\, arvontoja\, kokkailukoulu sekä mukana myös myyjiä pöytineen. \nSeuraa ilmoittelua Vapottajat Meet and Greet sivustolla ja saavu paikalle! \nhttps://www.facebook.com/vapottajatMeetAndGreet/
URL:https://vapers.fi/event/vapottajat-meet-greet-paijat-hameen-miitti-lahti/
LOCATION:Ravintola Torvi\, Loviisankatu 8\, Lahti\, Päijät-Häme\, 15100\, Suomi
END:VEVENT
END:VCALENDAR