BEGIN:VCALENDAR
VERSION:2.0
PRODID:-//Vapers Finland ry - ECPv6.5.0//NONSGML v1.0//EN
CALSCALE:GREGORIAN
METHOD:PUBLISH
X-ORIGINAL-URL:https://vapers.fi
X-WR-CALDESC:Tapahtumat Vapers Finland ry
REFRESH-INTERVAL;VALUE=DURATION:PT1H
X-Robots-Tag:noindex
X-PUBLISHED-TTL:PT1H
BEGIN:VTIMEZONE
TZID:Europe/Helsinki
BEGIN:DAYLIGHT
TZOFFSETFROM:+0200
TZOFFSETTO:+0300
TZNAME:EEST
DTSTART:20150329T010000
END:DAYLIGHT
BEGIN:STANDARD
TZOFFSETFROM:+0300
TZOFFSETTO:+0200
TZNAME:EET
DTSTART:20151025T010000
END:STANDARD
END:VTIMEZONE
BEGIN:VEVENT
DTSTART;TZID=Europe/Helsinki:20151205T140000
DTEND;TZID=Europe/Helsinki:20151205T190000
DTSTAMP:20260423T095959
CREATED:20150924T180726Z
LAST-MODIFIED:20150924T182346Z
UID:192230-1449324000-1449342000@vapers.fi
SUMMARY:Vapottajat Meet & Greet: Tampereen Vapottajien Pikkujoulut
DESCRIPTION:Vapottajat Meet and Greet kiertue pamahtaa eetteriin kahden paikkakunnan voimin.\nTampereen Vapottajat tarjoaa höyryävälle kansalle PIKKUJOULUT tutussa ympäristössä Bar Vikkulassa. \nPikkujoulut alkaa kello 14:00 ja päättyvät sitten kun tontut sammuvat (virallisesti 19:00\, mutta iltaa saa jatkaa ravintelissa senkin jälkeen). \nPikkujouluissa luvassa ainakin tonttuilua ja uusien kasvojen ja vanhojen tuttujen kanssa vapottelua\, arvontaa\, höyryskabaa\, nestemaisteluja\, kokkikoulua ja tietenkin ostoksia voi suorittaa myyjien myyntipöydiltä. \nTarkempi aikataulu yms. muut asia julkaistaan Vapottajat Meet and Greet sivustolla\, seuraa ilmoittelua! https://www.facebook.com/vapottajatMeetAndGreet/ \nTervetuloa viettämään höyryntäytteiset pikkujoulut kaikki vapottimeen katsomatta!
URL:https://vapers.fi/event/vapottajat-meet-greet-tampereen-vapottajien-pikkujoulut/
LOCATION:Bar Vikkula\, Aleksis Kiven katu 24\, Tampere\, 33200\, Suomi
END:VEVENT
END:VCALENDAR