BEGIN:VCALENDAR
VERSION:2.0
PRODID:-//Vapers Finland ry - ECPv6.5.0//NONSGML v1.0//EN
CALSCALE:GREGORIAN
METHOD:PUBLISH
X-WR-CALNAME:Vapers Finland ry
X-ORIGINAL-URL:https://vapers.fi
X-WR-CALDESC:Tapahtumat Vapers Finland ry
REFRESH-INTERVAL;VALUE=DURATION:PT1H
X-Robots-Tag:noindex
X-PUBLISHED-TTL:PT1H
BEGIN:VTIMEZONE
TZID:Europe/Helsinki
BEGIN:DAYLIGHT
TZOFFSETFROM:+0200
TZOFFSETTO:+0300
TZNAME:EEST
DTSTART:20160327T010000
END:DAYLIGHT
BEGIN:STANDARD
TZOFFSETFROM:+0300
TZOFFSETTO:+0200
TZNAME:EET
DTSTART:20161030T010000
END:STANDARD
END:VTIMEZONE
BEGIN:VEVENT
DTSTART;TZID=Europe/Helsinki:20160123T140000
DTEND;TZID=Europe/Helsinki:20160123T200000
DTSTAMP:20260423T082658
CREATED:20160106T110612Z
LAST-MODIFIED:20160117T132733Z
UID:192319-1453557600-1453579200@vapers.fi
SUMMARY:Vapers Meet And Greet: Lahti Club Chicago
DESCRIPTION:Vapers Meet and Greet 2016 kiertueen ensimmäinen etappi näkee päivänvalon Lahdessa Club Chicagossa 23.1.2016 kello 14:00 alkaen. \nLuvassa on tuttuun tapaan arvontoja ja ainakin Höyrypilvi skabat. \nAikataulu: \n14 Ovet avataan\n15 Tervetulopuhe\n17 Mister & Miss Höyry\n18 Höyrypilvikisa\n19 Arvonta\n20 Tapahtuma päättyy \nKirpparipöytä yhdistyksen pöydän luona \nMyyntipöytiä pitämässä: \nHöyrykeisari – Höyrykeisarin nesteet\nStadin Höyry – Laitteita laidasta laitaan\nThe House of Vapors – Nesteitä ja laitteita (Mad Rhinon porukka esittäytyy uuden kauppansa kanssa)\nVapeKeisari – Nesteita ja laitteita \nLisätiedot aktiviteeteista: \nVapers Meet & Greet – Kiertuepassi\nVapers Meet & Greet -kiertue kattaa 6 eri kaupunkia\, joten haastamme sinut käymään jokaisessa miitissä! Kiertue alkaa lauantaina 23.1.2016 klo 14 Lahden Club Chicagosta ja päättyy marraskuussa Tampereen pikkujouluihin. Lahdesta ja Mikkelistä on saatavilla kiertuepasseja\, johon laitetaan oma nimi sekä pyydetään yhdistyksen pisteeltä leima. Passi kannattaa pitää mukana joka tapahtumassa ja muistaa leimata se\, sillä palkitsemme ahkerimmat reissaajat! Mitä enemmän passissa on leimoja\, sitä mahtavammat palkinnot on luvassa. Neljästä leimasta ansaitset jo pienen yllätyksen. \nTiedämme myös\, että passi voi hukkua vuoden aikana\, joten on myös toinen tapa ansaita merkki käynnistä: Ota valokuva itsestäsi yhdistyksen pisteellä jonkun yhdistyksen jäsenen kanssa ja postaa kuva kyseisen tapahtuman facebook sivuille. Tämä kuva toimii leimanasi ja vuoden lopussa yllätys voi odottaa sinua… \nMister & Miss Höyry\nKokeillaan jotain perinteistä poikkeavaa ja kruunataan joka miitissä Mister Höyry sekä Miss Höyry. Kyseessä on siis eräänlainen kauneuskilpailu\, johon voi osallistua kuka tahansa. Osallistuminen tapahtuu siten\, että ilmoittaudut yhdistyksen pöydän luona\, jossa sinulta otetaan nimi ja kameralla kuva. Raati valitsee kuvien perusteella 5 miestä ja 5 naista\, jotka kutsutaan lavalle finaalia varten. Finaalissa valitaan voittajat\, jotka kruunataan palkintojen kera. \nHöyrypilvikilpailu sponsored by Puffila.com\nNimikin sen kertoo\, kaikille tuttu klassikkokilpailu höyrytapahtumista. Kilpailussa on 2 eri sarjaa: Max 100W ja Mekaaniset. (Päätapahtumissa myös unlimited) \n\nVoittajaksi kruunataan se\, joka puhaltaa näyttävimmän cumuluspilven. Voittaja ratkaistaan tuomariston äänin.\nKilpailijat kilpailevat omilla laitteillaan\, nesteiden osalta järjestäjät voivat mahdollisesti määrätä kilpailussa käytettävät nesteet\nKilpailijat kilpailevat omilla laitteillaan\, nesteiden osalta järjestäjät voivat mahdollisesti määrätä kilpailussa käytettävät nesteet\nAtona saa käyttää mitä ikinä haluaa\, paitsi turbon käyttö on sallittu vain ja ainoastaan unlimited sarjassa.\nMax 100W sarjassa nimen mukaisesti modin tulee olla max 100W\, joka tarkistetaan ja mekaanisten sarjassa modin tulee olla yhdellä tai kahdella 18650-akulla toimiva mekaaninen.\nNäytöstyylisessä unlimited sarjassa\, joka käydään vain Mikkelissä ja Tampereella\, saa osallistua ihan millä modilla ikinä haluaa ja uskaltaa; mitään rajoituksia ei ole. \nJokainen kilpailija huolehtii itse laitteensa turvallisuudesta. Eli käyttäkää turvallisia akkuja ja tarpeeksi turvallisia vastuslukemia. Yhdistys ei vastaa\, jos kilpailijalle tapahtuu jotain.\n\nKirpparipöytä\nJoka tapahtumasta löytyy valvottu pöytä\, johon voit jättää esimerkiksi modisi myytäväksi. Myytävän tuotteen viereen jätät vain lapun\, jossa kerrot\, mikä tuote on kyseessä hinnan kera ja lapun toiselle puolelle piiloon oman nimesi. Miitistä riippuen joko joku järjestäjistä rahastaa tuotteen tai sitten sinut kuulutetaan kirpparipöydän luokse\, jotta voitte suoraan hoitaa kaupat loppuun. \nAkkunarikka\nHöyrymiiteissä tulee höyryteltyä ja joskus akut voivat loppua ja modi pimentyä eikä vaihtoakkuja löydy. Tämän vuoksi pyrimme järjestämään joka miittiin akkunarikan\, jossa voit ladata modisi ja akkusi. \nMedianurkka\nTubettajille ja muille kuvaajille on tarjolla osassa miiteistä\, esimerkiksi Mikkelissä\, oma rauhallinen nurkkaus jossa voi käydä videoimassa ja haastattelemassa ihmisiä. Kamera pitää olla oma\, mutta paikan tarjoamme me \n 
URL:https://vapers.fi/event/vapers-meet-and-greet-lahti-club-chicago/
LOCATION:Club Chicago\, Vesijärvenkatu 11\, Lahti\, Suomi
END:VEVENT
END:VCALENDAR