BEGIN:VCALENDAR
VERSION:2.0
PRODID:-//Vapers Finland ry - ECPv6.5.0//NONSGML v1.0//EN
CALSCALE:GREGORIAN
METHOD:PUBLISH
X-ORIGINAL-URL:https://vapers.fi
X-WR-CALDESC:Tapahtumat Vapers Finland ry
REFRESH-INTERVAL;VALUE=DURATION:PT1H
X-Robots-Tag:noindex
X-PUBLISHED-TTL:PT1H
BEGIN:VTIMEZONE
TZID:Europe/Helsinki
BEGIN:DAYLIGHT
TZOFFSETFROM:+0200
TZOFFSETTO:+0300
TZNAME:EEST
DTSTART:20160327T010000
END:DAYLIGHT
BEGIN:STANDARD
TZOFFSETFROM:+0300
TZOFFSETTO:+0200
TZNAME:EET
DTSTART:20161030T010000
END:STANDARD
END:VTIMEZONE
BEGIN:VEVENT
DTSTART;TZID=Europe/Helsinki:20160312T140000
DTEND;TZID=Europe/Helsinki:20160312T210000
DTSTAMP:20260423T045259
CREATED:20160112T182945Z
LAST-MODIFIED:20160204T154519Z
UID:192378-1457791200-1457816400@vapers.fi
SUMMARY:Ylivieska Vapomiitti Bar5
DESCRIPTION:Ylivieskassa on vapomiitti 12.3. Paikkana toimii Bar5\, Kauppakatu 14:ssä. Tapahtuma alkaa klo 14.00 ja päättyy klo 21.00. Ravintolassa saa höyrytä sisällä tapahtuman aikana. Tapahtuma on yksityinen\, K18. Tapahtuman jälkeen ravintola palaa tavalliseen rytmiinsä. Sisällä höyryäminen päättyy. Luvassa  FemmaVisa klo 22.15 lähtien\, jonka jälkeen lauteet valtaa Jamit. \nTapahtuman sivut https://www.facebook.com/events/177401672616319/ \nTietoa Bar5:stä http://www.vieska.net/index.php?sivu=bar5 \nLämpimästi tervetuloa paikalle Ylivieskaan. Sinne kaiken keskelle.
URL:https://vapers.fi/event/ylivieska-vapomiitti-bar5/
END:VEVENT
BEGIN:VEVENT
DTSTART;TZID=Europe/Helsinki:20160312T150000
DTEND;TZID=Europe/Helsinki:20160312T210000
DTSTAMP:20260423T045259
CREATED:20160106T111757Z
LAST-MODIFIED:20160301T191635Z
UID:192326-1457794800-1457816400@vapers.fi
SUMMARY:Vapers Meet And Greet: Mikkeli Night Club Kellari
DESCRIPTION:Mikkeli Höyryää saa jatkoa\, tällä kertaa Vapers Finland Ry ja Vapottajat Mikkeli lyö viisaat päänsä yhteen ja yhteistyössä järjestävät huikean spektaakkelin 12.3.2016 yökerho Kellarissa. \nMikkeli Höyryää onkin Vapers Meet And Greet kiertueen toinen päätapahtumista ja vuoden 2015 tavoin tulee olemaan puheenaiheena vapottajapiireissä vielä pitkään maaliskuun jälkeenkin\, tosin tällä kertaa ainakin tuplasti kovemmalla mentaliteetilla! \nOhjelmassa on luvassa viime vuoden tapaan höyrypilvikisaa sekä vapetrick-skabaa. Lisäksi tapahtumassa palkitaan Mr. & Ms. Höyry. Paikalla on myös runsas määrä kauppiaita sekä tubettajille oma hiljainen medianurkka. Lisäksi setuppien vääntämisen mestarit opastavat teidät taitojensa saloihin sille erikseen varatussa valoisassa tilassa. Voivat jopa vääntää teille unelmasetupitkin mikäli kauniisti pyydätte.  \nTapahtumaan painetaan taas superseksikäs tapahtumapaita jonka hinta on 15 euroa. T-paitoja painatetaan ennakkotilausten perusteella ja paikan päälle roudataan vielä jonkin verran paitoja myyntiin. Paidan kuva tulee tänne sivuille tarkasteltavaksi myöhemmin. \nOhjelma \nKlo 15 Ovet auki höyrykansalle.\nKlo 16 Tervetulopuhe\, äänessä Vapers Ry ja Mikkelin Vapottajat. Vapetrick-kisa ja Mr. & Ms. Höyry polkaistaan käyntiin.\nklo 18 Mr. & Ms. Höyry valitaan.\nKlo 19 Höyrypilvikisat (mekaaninen\, rele ja unlimited).\nKlo 20 Vapetrick kisan palkitsimiset ja loppupuheet.\nKlo 21-04 Ovet auki normikansalle\, mikään ei kiellä höyryttelevää kansaa jäämään nauttimaan Mikkelin yöelämästä. \nKilpailuiden säännöt \nHöyrypilvikisa:\nKisataan kolmessa kategoriassa joista meksu & rele-kategorioissa palkitaan parhaat höyryäjät. Unlimited-kategoria on enempi näytöstyylinen tapahtuma jossa ei palkita muilla kuin aplodeilla ja syvällä kunnioituksella.  \nTurbodripperit on kiellettyjä meksu & rele-kategorioissa. Rele-kategoriassa maximi wattimäärä on 100w. Höyryteltävät nesteet tulevat talon puolesta\, älä siis käytä omiasi.  \nNäitä sääntöjä päivitellään vielä myöhemin. \nVapetrick:\nMikäli haluat osallistua Vapetrick-kisaan\, etsi käsiisi joku Mikkeli Höyryää staffipaidan omaava. Kerro heille halustasi osallistua ja staffilainen kuvaa trikkisi videolle. Illan lopussa sitten raati valitsee näistä parhaat palat.  \nMr. & Ms. Höyry:\nMikäli haluat ilmoittautua Mr. & Ms. Höyry-kisaan\, etsi käsiisi Mikkeli Höyryää staffipaidan omaava. Hän ottaa sinusta kuvan ja näistä kuvista raati valitsee parhaat finaaliin. Finaalissa yleisön ja raadin yhteisellä päätöksellä palkitaan Mr. & Ms. Höyry. Tässä kisassa asenne on tärkeintä! \nSPECIAL: Satan´s arse \nMikä ihmeen Satan´s Arse? \nTarjoituksena on löytää kaikista pahimmalta maistuva neste jonka sinä olet raadille Urdu&Qualus kokannut. Eli kehitä karmein litku minkä osaat ja tuo se mukanasi Mikkeliin\, raati arvio ja palkitsee 3 kaikista pahimmalta maistuvaa nestettä\, mutta tutustu sääntöihin TARKASTI alta. \nKilpailuaika? \nAlkaa nyt 29.2 ja päättyy 12.3 kello 17:00\nAlkukarsinnat & Finaali?\nFinaaliin valitaan 6 kaikista pahimmalta kuulostavaa nestettä alkukarsinnan perusteella. Alkukarsinta suoritetaan reseptejä arvioimalla\, eli mitkä 6 nestettä paperilla kuulostavat kaikista karmeimmilta. Finaalissa Urdu&Qualus laittavat finaalinesteet pahemmuusjärjestykseen ja 3 kaikista karmeinta palkitaan! \nMiten osallistun? \nIlmoittautuminen mukaan tapahtuu 12.3 Mikkeli Höyryää tapahtumassa (Yökerho Kellari) kello 15:00 – 17:00 välisenä aikana Vapers Finland ry:n pisteellä seuraavasti: Tuo kirjallinen kuvaus nesteestäsi (resepti + kuvaus miltä maistuu) Vapersin pisteelle kello 17:00 mennessä. Raati valitsee 6 kaikista karmeinta nestettä finaaliin\, finalistit julkaistaan noin kello 17:30 jonka jälkeen nesteiden tekijät kuulutetaan tuomaan nesteensä raadin eteen missä yhteydessä raadille esitetään myös dokumentointi nesteistä (Lue säännöt!). Finaali pidetään tämän perään\, finaali esitetään myös livenä qualuksen streamissä tapahtumasta. Nettiosoite julkaistaan sivuilla myöhemmin. \nSäännöt? \nKokkaa kotona pahin mahdollinen neste minkä vain keksit\, dokumentoi kuvin kokkausprosessi eli kuvista tulee näkyä kaikki tiivarit mitä nesteeseen on mennyt sekä kokkausprosessi. \nKirjoita A4 paperille resepti ja kuvaile sanoin miltä nesteesi tulisi maistua\, tämä on tärkeätä koska alkukarsinta käydään paperiversioiden mukaan joten käytä luovuuttasi! Kirjoita paperille myös kuka on nesteen tehnyt\, jotta sinut voidaan kutsua finaaliin! HUOM! Reseptit tulevat vain ja ainostaan raadin tietoon\, niitä ei levitetä eteenpäin tai julkiseen jakeluun\, tämä siksi että takaamme raadin turvallisuuden ja pystymme jotenkin toteamaan\, että neste on turvallista höyryttää!!! Pahimman nesteen tekijän resepti julkaistaan tapahtumasivulla\, jos kokki antaa tähän luvan! \nSaavu paikalle Mikkeli Höyryää tapahtumaan yökerho kellariin ja toimita A4 paperi Vapersin pisteelle kello 17:00 mennessä niin olet mukana skabassa. Jos nesteesi pääsee finaaliin sinut kuulutetaan erikseen tuomaan neste raadille sekä esittämään dokumentaatio kokkausprosessista. \n– Neste EI SAA sisältää Chiliä\n– Neste EI SAA sisältää nikotiiniä\n– VG/PG suhde vapaa\n– Nesteen tulee olla höyryttelyyn soveltuvaa\n– Sinun täytyy pystyä kuvailemaan A4 paperilla miltä nesteen tulisi maistua. HUOM! esim. napanöyhtä tai varpaiden väli ei ole makuja\, koska kukaan ei tiedä miltä niiden tulisi maistua\, mutta esim. HK:n sininen aurajuustolla taasen on hyväksyttävä Hymiö wink\n– Dokumentoi vähintään kuvin kokkausprosessi\n– 10ml nestettä riittää \nPalkinnot? \nKolmelle yrjöttävimmälle lähtee Finnvapen lahjoittamat vaporflask vapeforward laitteet (Classic\, stout ja mini). Yrjöttävimmen nesteen tekijä saa valita eka ja jne. \nMuuta? \nFinaali videoidaan live lähetyksenä Qualuksen streamissä tapahtumapaikalta.
URL:https://vapers.fi/event/vapers-meet-and-greet-mikkeli-night-club-kellari/
LOCATION:Night Club Kellari\, Maaherrankatu 12\, Mikkeli\, Suomi
END:VEVENT
END:VCALENDAR