BEGIN:VCALENDAR
VERSION:2.0
PRODID:-//Vapers Finland ry - ECPv6.5.0//NONSGML v1.0//EN
CALSCALE:GREGORIAN
METHOD:PUBLISH
X-WR-CALNAME:Vapers Finland ry
X-ORIGINAL-URL:https://vapers.fi
X-WR-CALDESC:Tapahtumat Vapers Finland ry
REFRESH-INTERVAL;VALUE=DURATION:PT1H
X-Robots-Tag:noindex
X-PUBLISHED-TTL:PT1H
BEGIN:VTIMEZONE
TZID:Europe/Helsinki
BEGIN:DAYLIGHT
TZOFFSETFROM:+0200
TZOFFSETTO:+0300
TZNAME:EEST
DTSTART:20160327T010000
END:DAYLIGHT
BEGIN:STANDARD
TZOFFSETFROM:+0300
TZOFFSETTO:+0200
TZNAME:EET
DTSTART:20161030T010000
END:STANDARD
END:VTIMEZONE
BEGIN:VEVENT
DTSTART;TZID=Europe/Helsinki:20160917T150000
DTEND;TZID=Europe/Helsinki:20160917T210000
DTSTAMP:20260422T182005
CREATED:20160106T112719Z
LAST-MODIFIED:20160908T201447Z
UID:192332-1474124400-1474146000@vapers.fi
SUMMARY:Vapers Meet And Greet: Vaasa 17.9 HulluPullo
DESCRIPTION:Pohjoisempikin (näin etelästä katsottuna) Suomi pääsee miittailun makuun syyskuussa kun paikkakuntana on Vaasa.  \nTapahtuma järjestetään HulluPullo ravintolassa 17.9.2016\, lisätietoja löydät Meet And Greetin virallisilta facebook sivuilta. \nhttps://www.facebook.com/VapersMeetAndGreet/
URL:https://vapers.fi/event/vapers-meet-and-greet-syyskuu-vaasa/
LOCATION:Happy Barrel\, Kauppapuistikko 15\, Vaasa\, Suomi
END:VEVENT
END:VCALENDAR