BEGIN:VCALENDAR
VERSION:2.0
PRODID:-//Vapers Finland ry - ECPv6.5.0//NONSGML v1.0//EN
CALSCALE:GREGORIAN
METHOD:PUBLISH
X-WR-CALNAME:Vapers Finland ry
X-ORIGINAL-URL:https://vapers.fi
X-WR-CALDESC:Tapahtumat Vapers Finland ry
REFRESH-INTERVAL;VALUE=DURATION:PT1H
X-Robots-Tag:noindex
X-PUBLISHED-TTL:PT1H
BEGIN:VTIMEZONE
TZID:Europe/Helsinki
BEGIN:DAYLIGHT
TZOFFSETFROM:+0200
TZOFFSETTO:+0300
TZNAME:EEST
DTSTART:20160327T010000
END:DAYLIGHT
BEGIN:STANDARD
TZOFFSETFROM:+0300
TZOFFSETTO:+0200
TZNAME:EET
DTSTART:20161030T010000
END:STANDARD
END:VTIMEZONE
BEGIN:VEVENT
DTSTART;TZID=Europe/Helsinki:20160806T130000
DTEND;TZID=Europe/Helsinki:20160806T220000
DTSTAMP:20260423T005542
CREATED:20160724T155043Z
LAST-MODIFIED:20160724T155043Z
UID:192975-1470488400-1470520800@vapers.fi
SUMMARY:Turku Vape Piknik 2016
DESCRIPTION:Turussa tapahtuu taas! On vuoden 2016 Aurajoki Vape Piknikin aika! Vapottajat Turku kutsuu sinutkin arvon höyryttelijä pitämään mukavaa vape piknikiä Aurajoen edustalle. Tarkempi paikka on tuomiokirkon edessä oleva ruohoalue/puisto. \nTapahtuma on siis 6.Elokuuta ja aika 13 – 22. \nEli siis piknik kamat mukaan! Syötävät\, juotavat\, vapot\, viltit ja ennen kaikkea aurinkoinen mieli! \nKeli varauksella mennään! Toivomme\, että ei sada mutta Suomessa on kaikki mahdollista. Jos keli näyttää todella surkealta niin varmaan tarvitsee siirtää tapahtumaa. \nLaittakaa sanaa eteenpäin\, jotta saadaan mahdollisimman moni paikalle. Ideana on tutustua toisiimme paremmin ja viettää laatuaikaa harrastajien/tupakasta eroon päässeiden kanssa. \nPaikka: Turun Aurajoen ranta Tuomiokirkon edustalla.\npäivä: 6.8.2016\nTapahtuma aika: klo 13 – 22.00 \nTerveisin\, Arttu ja Harri HarHar / Vapottajat Turku
URL:https://vapers.fi/event/turku-vape-piknik-2016/
LOCATION:Turun Aurajoen ranta\, Tuomiokirkonkatu 1\, Turku\, 20500\, Suomi
END:VEVENT
BEGIN:VEVENT
DTSTART;TZID=Europe/Helsinki:20160827T120000
DTEND;TZID=Europe/Helsinki:20160827T210000
DTSTAMP:20260423T005542
CREATED:20160724T160146Z
LAST-MODIFIED:20160724T160414Z
UID:192982-1472299200-1472331600@vapers.fi
SUMMARY:Vapefest 2016
DESCRIPTION:Kesän kuumin tapahtuma tulee jälleen! Jo kuudetta kertaa järjestettävä Vapefest Finland on tänä vuonna On The Rocksissa 27.8.2016 klo 12-21. Virallisena jatkopaikkana toimii myös On The Rocks klo 22 aina klo 04 asti.\nLue lisää:\nwww.vapers.fi/vapefest tai https://www.facebook.com/Vapefest2016/ \nHUOM! Tapahtumaan on 3€ narikkamaksu
URL:https://vapers.fi/event/vapefest-2016/
LOCATION:On The Rocks\, Mikonkatu 15\, Helsinki\, 00100
END:VEVENT
BEGIN:VEVENT
DTSTART;TZID=Europe/Helsinki:20160917T150000
DTEND;TZID=Europe/Helsinki:20160917T210000
DTSTAMP:20260423T005542
CREATED:20160106T112719Z
LAST-MODIFIED:20160908T201447Z
UID:192332-1474124400-1474146000@vapers.fi
SUMMARY:Vapers Meet And Greet: Vaasa 17.9 HulluPullo
DESCRIPTION:Pohjoisempikin (näin etelästä katsottuna) Suomi pääsee miittailun makuun syyskuussa kun paikkakuntana on Vaasa.  \nTapahtuma järjestetään HulluPullo ravintolassa 17.9.2016\, lisätietoja löydät Meet And Greetin virallisilta facebook sivuilta. \nhttps://www.facebook.com/VapersMeetAndGreet/
URL:https://vapers.fi/event/vapers-meet-and-greet-syyskuu-vaasa/
LOCATION:Happy Barrel\, Kauppapuistikko 15\, Vaasa\, Suomi
END:VEVENT
BEGIN:VEVENT
DTSTART;TZID=Europe/Helsinki:20161001T150000
DTEND;TZID=Europe/Helsinki:20161001T200000
DTSTAMP:20260423T005542
CREATED:20160908T201204Z
LAST-MODIFIED:20160908T201204Z
UID:193092-1475334000-1475352000@vapers.fi
SUMMARY:Vapers Meet And Greet EXTRA Tallinna
DESCRIPTION:Vapers Meet And Greet EXTRA on täällä! Yhteistyössä HappyJuicen kanssa järjestetään Tallinnan höyrymiitti vanhan kaupungin porteilla Katusekohvikissa! Tervetuloa! \nLisätietoja: https://www.facebook.com/events/1161920363867011/
URL:https://vapers.fi/event/vapers-meet-and-greet-extra-tallinna/
LOCATION:Katusekohvik\, Viru 13/15\, Tallinna\, Viro
END:VEVENT
BEGIN:VEVENT
DTSTART;TZID=Europe/Helsinki:20161210T140000
DTEND;TZID=Europe/Helsinki:20161210T200000
DTSTAMP:20260423T005542
CREATED:20160106T113210Z
LAST-MODIFIED:20160924T160341Z
UID:192333-1481378400-1481400000@vapers.fi
SUMMARY:Vapers Meet And Greet Pikkujoulut: 10.12 Tampere @ Bar K
DESCRIPTION:Vapers Meet And Greet kiertueen toinen päätahtumista näkee päivänvalonsa joulukuussa Tampereella perinteisten pikkujoulujen merkeissä.  \n10.12 Lauantaina kello 14:00 alkaen päräytetään pikkujoulut käyntiin. Varaa matkaasi hyvää mieltä ja muista tonttulakki ei ole kielletty 😉 \nLisätietoja tapahtumasta: https://www.facebook.com/events/854212531379394/
URL:https://vapers.fi/event/vapers-meet-and-greet-joulukuu-tampere/
END:VEVENT
END:VCALENDAR